{
 "currentVersion": 11.5,
 "serviceDescription": "Imagery/Aerials2010",
 "serviceItemId": "f4e6841008244bcda4d3f137fcb1f715",
 "name": "Imagery/Aerials2010",
 "description": "",
 "extent": {
  "xmin": 464399.9567712173,
  "ymin": 186600.01144258305,
  "xmax": 507599.9567712173,
  "ymax": 229800.01144258305,
  "spatialReference": {
   "wkid": 26985,
   "latestWkid": 26985
  }
 },
 "initialExtent": {
  "xmin": 464399.9567712173,
  "ymin": 186600.01144258305,
  "xmax": 507599.9567712173,
  "ymax": 229800.01144258305,
  "spatialReference": {
   "wkid": 26985,
   "latestWkid": 26985
  }
 },
 "fullExtent": {
  "xmin": 464399.9567712173,
  "ymin": 186600.01144258305,
  "xmax": 507599.9567712173,
  "ymax": 229800.01144258305,
  "spatialReference": {
   "wkid": 26985,
   "latestWkid": 26985
  }
 },
 "sortableFields": "",
 "bandCount": 3,
 "pixelType": "U8",
 "minValues": [
  0,
  0,
  0
 ],
 "maxValues": [
  255,
  255,
  255
 ],
 "meanValues": [
  152.74815517788232,
  140.30724385121562,
  130.6574863577208
 ],
 "stdvValues": [
  44.55518121898354,
  45.256959536537174,
  46.73065104722683
 ],
 "serviceProperties": "Center<\/MosaicMethod>First<\/MosaicOperator>true<\/SortAscending><\/LockImageID><\/TileOrderField>0<\/TileOrderBase>0.000000<\/AvgImageSpacingX>0.000000<\/AvgImageSpacingY>0.0<\/ViewPointX>0.0<\/ViewPointY>0.0<\/ViewPointDefShiftX>0.0<\/ViewPointDefShiftY>None<\/CompressionMethod>75<\/CompressionQuality>0.010000<\/CompressionTolerance>Bilinear<\/SamplingMethod><\/ImageServiceProperties><\/ImageServer>",
 "allowedFields": "",
 "hasMultidimensions": false,
 "pixelSizeX": 0.15,
 "pixelSizeY": 0.15,
 "meanPixelSize": 0.15,
 "datasetFormat": "FGDBR",
 "uncompressedSize": 248832000000,
 "blockWidth": 128,
 "blockHeight": 128,
 "compressionType": "LZ77",
 "bandNames": [
  "Band_1",
  "Band_2",
  "Band_3"
 ],
 "allowCopy": true,
 "allowAnalysis": true,
 "itemAccess": false,
 "inspectionCapabilities": "",
 "minPixelSize": 0,
 "maxPixelSize": 0,
 "copyrightText": "",
 "serviceDataType": "esriImageServiceDataTypeRGB",
 "serviceSourceType": "esriImageServiceSourceTypeDataset",
 "objectIdField": "",
 "fields": [],
 "capabilities": "Image,Metadata,Mensuration",
 "defaultMosaicMethod": "Center",
 "allowedMosaicMethods": "",
 "sortField": "",
 "sortValue": null,
 "sortAscending": true,
 "mosaicOperator": "First",
 "defaultCompressionQuality": 75,
 "defaultResamplingMethod": "Bilinear",
 "maxImageHeight": 4100,
 "maxImageWidth": 15000,
 "allowRasterFunction": true,
 "rasterFunctionInfos": [
  {
   "name": "None",
   "description": "",
   "help": ""
  }
 ],
 "rasterTypeInfos": [
  {
   "name": "Raster Dataset",
   "description": "Supports all ArcGIS Raster Datasets",
   "help": ""
  }
 ],
 "mensurationCapabilities": "Basic",
 "hasHistograms": true,
 "hasColormap": false,
 "hasRasterAttributeTable": false,
 "minScale": 0,
 "maxScale": 0,
 "exportTilesAllowed": false,
 "supportsStatistics": false,
 "supportsAdvancedQueries": false,
 "editFieldsInfo": null,
 "ownershipBasedAccessControlForRasters": null,
 "allowComputeTiePoints": false,
 "useStandardizedQueries": true,
 "advancedQueryCapabilities": {
  "useStandardizedQueries": true,
  "supportsStatistics": false,
  "supportsOrderBy": false,
  "supportsDistinct": false,
  "supportsPagination": false
 },
 "spatialReference": {
  "wkid": 26985,
  "latestWkid": 26985
 }
}
