{
 "currentVersion": 11.5,
 "serviceDescription": "Aerials 2022",
 "serviceItemId": "c64b29d914ea450399f7837ca432a4b1",
 "name": "Imagery/Aerials2022_raster",
 "description": "Aerials 2022",
 "extent": {
  "xmin": 463906.5572329592,
  "ymin": 188671.6229603005,
  "xmax": 507797.8450729586,
  "ymax": 230124.5059203003,
  "spatialReference": {
   "wkid": 103068,
   "latestWkid": 6487
  }
 },
 "initialExtent": {
  "xmin": 463906.5572329592,
  "ymin": 188671.6229603005,
  "xmax": 507797.8450729586,
  "ymax": 230124.5059203003,
  "spatialReference": {
   "wkid": 103068,
   "latestWkid": 6487
  }
 },
 "fullExtent": {
  "xmin": 463906.5572329592,
  "ymin": 188671.6229603005,
  "xmax": 507797.8450729586,
  "ymax": 230124.5059203003,
  "spatialReference": {
   "wkid": 103068,
   "latestWkid": 6487
  }
 },
 "sortableFields": "",
 "bandCount": 4,
 "pixelType": "U8",
 "minValues": [],
 "maxValues": [],
 "meanValues": [],
 "stdvValues": [],
 "serviceProperties": "Center<\/MosaicMethod>First<\/MosaicOperator>true<\/SortAscending><\/LockImageID><\/TileOrderField>0<\/TileOrderBase>0.000000<\/AvgImageSpacingX>0.000000<\/AvgImageSpacingY>0.0<\/ViewPointX>0.0<\/ViewPointY>0.0<\/ViewPointDefShiftX>0.0<\/ViewPointDefShiftY>None<\/CompressionMethod>75<\/CompressionQuality>0.010000<\/CompressionTolerance>Bilinear<\/SamplingMethod><\/ImageServiceProperties><\/ImageServer>",
 "allowedFields": "",
 "hasMultidimensions": false,
 "pixelSizeX": 0.152400304999998,
 "pixelSizeY": 0.1524003049999992,
 "meanPixelSize": 0.1524003049999986,
 "datasetFormat": "FGDBR",
 "uncompressedSize": 313344000000,
 "blockWidth": 128,
 "blockHeight": 128,
 "compressionType": "LZ77",
 "bandNames": [
  "Band_1",
  "Band_2",
  "Band_3",
  "Band_4"
 ],
 "allowCopy": true,
 "allowAnalysis": true,
 "itemAccess": false,
 "inspectionCapabilities": "",
 "minPixelSize": 0,
 "maxPixelSize": 0,
 "copyrightText": "",
 "serviceDataType": "esriImageServiceDataTypeGeneric",
 "serviceSourceType": "esriImageServiceSourceTypeDataset",
 "objectIdField": "",
 "fields": [],
 "capabilities": "Image,Metadata,Mensuration",
 "defaultMosaicMethod": "Center",
 "allowedMosaicMethods": "",
 "sortField": "",
 "sortValue": null,
 "sortAscending": true,
 "mosaicOperator": "First",
 "defaultCompressionQuality": 75,
 "defaultResamplingMethod": "Bilinear",
 "maxImageHeight": 4100,
 "maxImageWidth": 15000,
 "allowRasterFunction": true,
 "rasterFunctionInfos": [
  {
   "name": "None",
   "description": "",
   "help": ""
  }
 ],
 "rasterTypeInfos": [
  {
   "name": "Raster Dataset",
   "description": "Supports all ArcGIS Raster Datasets",
   "help": ""
  }
 ],
 "mensurationCapabilities": "Basic",
 "hasHistograms": false,
 "hasColormap": false,
 "hasRasterAttributeTable": false,
 "minScale": 0,
 "maxScale": 0,
 "exportTilesAllowed": false,
 "supportsStatistics": false,
 "supportsAdvancedQueries": false,
 "editFieldsInfo": null,
 "ownershipBasedAccessControlForRasters": null,
 "allowComputeTiePoints": false,
 "useStandardizedQueries": true,
 "advancedQueryCapabilities": {
  "useStandardizedQueries": true,
  "supportsStatistics": false,
  "supportsOrderBy": false,
  "supportsDistinct": false,
  "supportsPagination": false
 },
 "spatialReference": {
  "wkid": 103068,
  "latestWkid": 6487
 }
}
