{
 "extent": {
  "ymin": 615000,
  "xmin": 1522000,
  "ymax": 755000,
  "xmax": 1666000,
  "spatialReference": {
   "latestVcsWkid": 6360,
   "latestWkid": 2893,
   "wkid": 2893,
   "vcsWkid": 105703
  }
 },
 "blockWidth": 128,
 "mosaicOperator": "First",
 "serviceSourceType": "esriImageServiceSourceTypeDataset",
 "hasMultidimensions": false,
 "maxImageWidth": 15000,
 "meanValues": [
  160.47935235524554,
  157.03695810861856,
  150.11813228586308
 ],
 "hasColormap": false,
 "compressionType": "LZ77",
 "defaultCompressionQuality": 75,
 "maxValues": [
  255,
  255,
  255
 ],
 "hasHistograms": true,
 "datasetFormat": "FGDBR",
 "maxImageHeight": 4100,
 "sortField": "",
 "bandNames": [
  "Band_1",
  "Band_2",
  "Band_3"
 ],
 "spatialReference": {
  "latestVcsWkid": 6360,
  "latestWkid": 2893,
  "wkid": 2893,
  "vcsWkid": 105703
 },
 "fullExtent": {
  "ymin": 615000,
  "xmin": 1522000,
  "ymax": 755000,
  "xmax": 1666000,
  "spatialReference": {
   "latestVcsWkid": 6360,
   "latestWkid": 2893,
   "wkid": 2893,
   "vcsWkid": 105703
  }
 },
 "bandCount": 3,
 "rasterFunctionInfos": [
  {
   "help": "",
   "name": "None",
   "description": ""
  }
 ],
 "supportsStatistics": false,
 "sortableFields": "",
 "minValues": [
  0,
  0,
  0
 ],
 "allowRasterFunction": true,
 "allowComputeTiePoints": false,
 "serviceDataType": "esriImageServiceDataTypeRGB",
 "supportsAdvancedQueries": false,
 "currentVersion": 12.1,
 "heightModelInfo": {
  "vertCRS": "NAVD_1988_Foot_US",
  "heightModel": "gravity_related_height",
  "heightUnit": "us-foot"
 },
 "sortValue": null,
 "objectIdField": "",
 "blockHeight": 128,
 "initialExtent": {
  "ymin": 615000,
  "xmin": 1522000,
  "ymax": 755000,
  "xmax": 1666000,
  "spatialReference": {
   "latestVcsWkid": 6360,
   "latestWkid": 2893,
   "wkid": 2893,
   "vcsWkid": 105703
  }
 },
 "pixelSizeX": 0.5,
 "pixelSizeY": 0.5,
 "defaultMosaicMethod": "Center",
 "name": "Imagery2013",
 "allowedMosaicMethods": "",
 "fields": [],
 "allowAnalysis": true,
 "hasRasterAttributeTable": false,
 "useStandardizedQueries": false,
 "description": "",
 "pixelType": "U8",
 "meanPixelSize": 0.15240030480060962,
 "exportTilesAllowed": false,
 "editFieldsInfo": null,
 "rasterTypeInfos": [
  {
   "help": "",
   "name": "Raster Dataset",
   "description": "Supports all ArcGIS Raster Datasets"
  }
 ],
 "defaultResamplingMethod": "Bilinear",
 "itemAccess": false,
 "minScale": 0,
 "serviceProperties": "Center<\/MosaicMethod>First<\/MosaicOperator>true<\/SortAscending><\/LockImageID><\/TileOrderField>0<\/TileOrderBase>0.000000<\/AvgImageSpacingX>0.000000<\/AvgImageSpacingY>0.0<\/ViewPointX>0.0<\/ViewPointY>0.0<\/ViewPointDefShiftX>0.0<\/ViewPointDefShiftY>None<\/CompressionMethod>75<\/CompressionQuality>0.010000<\/CompressionTolerance>Bilinear<\/SamplingMethod><\/ImageServiceProperties><\/ImageServer>",
 "advancedQueryCapabilities": {
  "supportsStatistics": false,
  "supportsSqlExpression": false,
  "supportsOrderBy": false,
  "useStandardizedQueries": false,
  "supportsPagination": false,
  "supportsDistinct": false
 },
 "serviceItemId": "58362cbd6afc4392a6d60facb958f1cf",
 "capabilities": "Image,Metadata,Mensuration",
 "maxScale": 0,
 "stdvValues": [
  74.320573258478092,
  74.880897139473404,
  78.298526251963324
 ],
 "allowedFields": "",
 "minPixelSize": 0,
 "sortAscending": true,
 "inspectionCapabilities": "",
 "maxPixelSize": 0,
 "allowedCompressions": "None,JPEG,LZ77,LERC",
 "uncompressedSize": 241920000000,
 "serviceDescription": "Imagery2013",
 "allowCopy": true,
 "copyrightText": "",
 "mensurationCapabilities": "Basic",
 "ownershipBasedAccessControlForRasters": null
}
