View In:
ArcGIS JavaScript
ArcGIS Online Map Viewer
ArcGIS Earth
Service Description: Imagery2026
Name: Imagery2026
Description:
Single Fused Map Cache: false
Extent:
XMin: 463906.52524841105
YMin: 188671.57249089872
XMax: 507797.81303098606
YMax: 230124.45539666433
Spatial Reference: 103068
(6487)
Initial Extent:
XMin: 463906.52524841105
YMin: 188671.57249089872
XMax: 507797.81303098606
YMax: 230124.45539666433
Spatial Reference: 103068
(6487)
Full Extent:
XMin: 463906.52524841105
YMin: 188671.57249089872
XMax: 507797.81303098606
YMax: 230124.45539666433
Spatial Reference: 103068
(6487)
Pixel Size X: 0.15240030480060765
Pixel Size Y: 0.15240030480060887
Band Count: 3
Pixel Type: U8
RasterFunction Infos: {"rasterFunctionInfos": [{
"help": "",
"name": "None",
"description": ""
}]}
Mensuration Capabilities: Basic
Inspection Capabilities:
Has Histograms: true
Has Colormap: false
Has Multi Dimensions : false
Rendering Rule:
Min Scale: 0
Max Scale: 0
Copyright Text:
Service Data Type: esriImageServiceDataTypeRGB
Min Values: 0, 0, 0
Max Values: 255, 255, 255
Mean Values: 77.512684854186006, 73.155020382564999, 59.987471934776003
Standard Deviation Values: 57.523803287558003, 52.413903832624001, 42.370556468429001
Object ID Field:
Fields:
None
Default Mosaic Method: Center
Allowed Mosaic Methods:
SortField:
SortValue: N/A
Mosaic Operator: First
Default Compression Quality: 75
Default Resampling Method: Bilinear
Max Record Count: null
Max Image Height: 4100
Max Image Width: 15000
Max Download Image Count: null
Max Mosaic Image Count: null
Allow Raster Function: true
Allow Copy: true
Allow Analysis: true
Allow Compute TiePoints: false
Supports Statistics: false
Supports Advanced Queries: false
Use StandardizedQueries: false
Raster Type Infos:
Name: Raster Dataset
Description: Supports all ArcGIS Raster Datasets
Help:
Has Raster Attribute Table: false
Edit Fields Info: N/A
Ownership Based AccessControl For Rasters: N/A
Child Resources:
Info
Histograms
Statistics
Key Properties
Legend
Raster Function Infos
Supported Operations:
Export Image
Identify
Measure
Compute Histograms
Compute Statistics Histograms
Get Samples
Compute Class Statistics
Query Boundary
Compute Pixel Location
Compute Angles
Validate
Project